BEGIN:VCALENDAR
PRODID:-//noblbusinessskills.ca//EN
VERSION:2.0
METHOD:PUBLISH
BEGIN:VEVENT
DTSTART;TZID=America/Halifax:20230403T090000
DTEND;TZID=America/Halifax:20230403T120000
URL:https://noblbusinessskills.ca/self-employment-benefits/colchester/course-calendar-colchester/legal-matters-for-small-business/
SUMMARY:The Legalities of it All (legal matters for small business)
LOCATION:Training will be held via Zoom
DESCRIPTION:Topics covered include: organization structure, financing, contracts, buying vs leasing, hiring, liabilities, registrations/permits/licenses, brand identity, and resolving disputes.
END:VEVENT
END:VCALENDAR