BEGIN:VCALENDAR
PRODID:-//noblbusinessskills.ca//EN
VERSION:2.0
METHOD:PUBLISH
BEGIN:VEVENT
DTSTART;TZID=America/Halifax:20190819T090000
DTEND;TZID=America/Halifax:20190819T120000
URL:https://noblbusinessskills.ca/self-employment-benefits/colchester/course-calendar-colchester/tax-troubles/
SUMMARY:Taxation 101
LOCATION:Zoom virtual meeting
DESCRIPTION:Everything you ever wanted to know about Income Tax but were afraid to ask!
END:VEVENT
END:VCALENDAR