BEGIN:VCALENDAR
PRODID:-//noblbusinessskills.ca//EN
VERSION:2.0
METHOD:PUBLISH
BEGIN:VEVENT
DTSTART;TZID=America/Halifax:20190304T090000
DTEND;TZID=America/Halifax:20190304T120000
URL:https://noblbusinessskills.ca/self-employment-benefits/colchester/course-calendar-colchester/using-instagram-for-business/
SUMMARY:Using Instagram for Business
LOCATION:Training will be held via Zoom
DESCRIPTION:1. Intro to Instagram - what’s unique about this social media platform and why you should use it!

2. How to set up an account - personal and business, you can have more than one, and they can work together!

3.
END:VEVENT
END:VCALENDAR