BEGIN:VCALENDAR
PRODID:-//noblbusinessskills.ca//EN
VERSION:2.0
METHOD:PUBLISH
BEGIN:VEVENT
DTSTART;TZID=America/Halifax:20260514T180000
DTEND;TZID=America/Halifax:20260526T210000
URL:https://noblbusinessskills.ca/self-employment-benefits/pictou/course-calendar/commercial-insurance/
SUMMARY:Insurance Matters for Business
LOCATION:Zoom online
DESCRIPTION:
END:VEVENT
END:VCALENDAR