BEGIN:VCALENDAR
PRODID:-//noblbusinessskills.ca//EN
VERSION:2.0
METHOD:PUBLISH
BEGIN:VEVENT
DTSTART;TZID=America/Halifax:20260507T180000
DTEND;TZID=America/Halifax:20260507T210000
URL:https://noblbusinessskills.ca/self-employment-benefits/pictou/course-calendar/human-resources-part-ii-recruiting-and-performance-management/
SUMMARY:Human Resources Part II - Recruiting &amp; Performance Management
LOCATION:via Zoom
DESCRIPTION:
END:VEVENT
END:VCALENDAR