BEGIN:VCALENDAR
PRODID:-//noblbusinessskills.ca//EN
VERSION:2.0
METHOD:PUBLISH
BEGIN:VEVENT
DTSTART;TZID=America/Halifax:20260430T180000
DTEND;TZID=America/Halifax:20260430T210000
URL:https://noblbusinessskills.ca/self-employment-benefits/pictou/course-calendar/human-resources-part-i-legalities-policies-human-rights/
SUMMARY:Human Resources - Part I - Legalities, Policies, Human Rights
LOCATION:via Zoom
DESCRIPTION:
END:VEVENT
END:VCALENDAR